BEGIN:VCALENDAR
VERSION:2.0
PRODID:-//wp-events-plugin.com//7.2.3.1//EN
TZID:Europe/Berlin
X-WR-TIMEZONE:Europe/Berlin
BEGIN:VEVENT
UID:5-12856@na-berlin.de
DTSTART;TZID=Europe/Berlin:20231214T180000
DTEND;TZID=Europe/Berlin:20231214T200000
DTSTAMP:20231130T073216Z
URL:https://na-berlin.de/events/ag-des-bcvk-zur-vorbereitung-der-silvester
 -convention/
SUMMARY:AG des BCVK zur Vorbereitung der Silvester Convention
DESCRIPTION:
CATEGORIES:Service
LOCATION:NA Basis Berlin\, Franz-Mehring-Platz 1\, Raum 217 in der 2. Etage
 \, Berlin\, Berlin\, 10243\, Deutschland
GEO:52.512738;13.440575
X-APPLE-STRUCTURED-LOCATION;VALUE=URI;X-ADDRESS=Franz-Mehring-Platz 1\, Rau
 m 217 in der 2. Etage\, Berlin\, Berlin\, 10243\, Deutschland;X-APPLE-RADI
 US=100;X-TITLE=NA Basis Berlin:geo:52.512738,13.440575
END:VEVENT
BEGIN:VTIMEZONE
TZID:Europe/Berlin
X-LIC-LOCATION:Europe/Berlin
BEGIN:STANDARD
DTSTART:20231029T020000
TZOFFSETFROM:+0200
TZOFFSETTO:+0100
TZNAME:CET
END:STANDARD
END:VTIMEZONE
END:VCALENDAR