BEGIN:VCALENDAR
VERSION:2.0
PRODID:-//wp-events-plugin.com//7.2.3.1//EN
TZID:Europe/Berlin
X-WR-TIMEZONE:Europe/Berlin
BEGIN:VEVENT
UID:5-10980@na-berlin.de
DTSTART;TZID=Europe/Berlin:20220417T140000
DTEND;TZID=Europe/Berlin:20220417T220000
DTSTAMP:20220408T220255Z
URL:https://na-berlin.de/events/oster-speaker-jam-2022/
SUMMARY:Oster-Speaker-Jam 2022
DESCRIPTION:
ATTACH;FMTTYPE=image/jpeg:https://na-berlin.de/wp-content/uploads/sites/5/
 2022/04/flyer.png
LOCATION:SPI Pankow\, Arkonastraße 45 – 49\, Berlin\, Berlin\, 13189\, D
 eutschland
GEO:52.565314;13.415323
X-APPLE-STRUCTURED-LOCATION;VALUE=URI;X-ADDRESS=Arkonastraße 45 – 49\, B
 erlin\, Berlin\, 13189\, Deutschland;X-APPLE-RADIUS=100;X-TITLE=SPI Pankow
 :geo:52.565314,13.415323
END:VEVENT
BEGIN:VTIMEZONE
TZID:Europe/Berlin
X-LIC-LOCATION:Europe/Berlin
BEGIN:DAYLIGHT
DTSTART:20220327T030000
TZOFFSETFROM:+0100
TZOFFSETTO:+0200
TZNAME:CEST
END:DAYLIGHT
END:VTIMEZONE
END:VCALENDAR